BEGIN:VCALENDAR
VERSION:2.0
PRODID:icalendar-ruby
CALSCALE:GREGORIAN
METHOD:PUBLISH
BEGIN:VEVENT
DTSTAMP:20260425T011704Z
UID:2e0930a3-f4dc-4336-9ab4-fbdc8e3083b5
DTSTART;VALUE=DATE:20231208
DTEND;VALUE=DATE:20231208
DESCRIPTION:Southwest Wyoming Indoor BMX
LOCATION:3320 Yellowstone Road  Rock Springs WY 82901 USA
SUMMARY:Local Race Single
URL:/site/bmx_races/539953
END:VEVENT
END:VCALENDAR
