BEGIN:VCALENDAR
VERSION:2.0
PRODID:icalendar-ruby
CALSCALE:GREGORIAN
METHOD:PUBLISH
BEGIN:VEVENT
DTSTAMP:20260425T114333Z
UID:3b50379f-3eb4-4930-bc42-9e3a65a77c5a
DTSTART;VALUE=DATE:20230922
DTEND;VALUE=DATE:20230922
DESCRIPTION:Hamilton BMX
LOCATION:7 Joe Nuxhall Way  Hamilton OH 45015 USA
SUMMARY:Local Race Single
URL:/site/bmx_races/539915
END:VEVENT
END:VCALENDAR
