BEGIN:VCALENDAR
VERSION:2.0
PRODID:icalendar-ruby
CALSCALE:GREGORIAN
METHOD:PUBLISH
BEGIN:VEVENT
DTSTAMP:20260424T210124Z
UID:ad15d934-26fa-4cdb-abaf-0fb5f4b99fdd
DTSTART;VALUE=DATE:20231007
DTEND;VALUE=DATE:20231007
DESCRIPTION:Whitney Mesa BMX
LOCATION:1575 Galleria Dr  Henderson NV 89014 USA
SUMMARY:Local Race Single
URL:/site/bmx_races/539844
END:VEVENT
END:VCALENDAR
