BEGIN:VCALENDAR
VERSION:2.0
PRODID:icalendar-ruby
CALSCALE:GREGORIAN
METHOD:PUBLISH
BEGIN:VEVENT
DTSTAMP:20260424T190026Z
UID:2c9aeaca-1031-471a-b706-9048913b6c8d
DTSTART;VALUE=DATE:20230928
DTEND;VALUE=DATE:20230928
DESCRIPTION:Lake Havasu City BMX
LOCATION:7260 Mc Culloch Blvd S. #B  Lake Havasu City AZ 86406 USA
SUMMARY:Local Race Single
URL:/site/bmx_races/539460
END:VEVENT
END:VCALENDAR
