BEGIN:VCALENDAR
VERSION:2.0
PRODID:icalendar-ruby
CALSCALE:GREGORIAN
METHOD:PUBLISH
BEGIN:VEVENT
DTSTAMP:20260425T024631Z
UID:fd5fc3e6-dee0-488e-8926-66b503b8659b
DTSTART;VALUE=DATE:20230807
DTEND;VALUE=DATE:20230807
DESCRIPTION:Cactus Park BMX
LOCATION:10610 Ashwood St  Lakeside CA 92040 USA
SUMMARY:Local Race Single
URL:/site/bmx_races/539336
END:VEVENT
END:VCALENDAR
