BEGIN:VCALENDAR
VERSION:2.0
PRODID:icalendar-ruby
CALSCALE:GREGORIAN
METHOD:PUBLISH
BEGIN:VEVENT
DTSTAMP:20260426T003949Z
UID:9bf22fef-7ae9-4041-ac5c-7b8b83dcecd6
DTSTART;VALUE=DATE:20231013
DTEND;VALUE=DATE:20231013
DESCRIPTION:Peninsula Indoor BMX
LOCATION:5867 Dogwood Road Se  Port Orchard WA 98367 USA
SUMMARY:Local Race Single
URL:/site/bmx_races/539104
END:VEVENT
END:VCALENDAR
