BEGIN:VCALENDAR
VERSION:2.0
PRODID:icalendar-ruby
CALSCALE:GREGORIAN
METHOD:PUBLISH
BEGIN:VEVENT
DTSTAMP:20260425T015451Z
UID:b99bf1b5-1276-466c-b959-16b92b17b383
DTSTART;VALUE=DATE:20230930
DTEND;VALUE=DATE:20230930
DESCRIPTION:North Bay BMX
LOCATION:3291 Streblow Dr  Napa CA 94558 USA
SUMMARY:Race for Life Single
URL:/site/bmx_races/538920
END:VEVENT
END:VCALENDAR
