BEGIN:VCALENDAR
VERSION:2.0
PRODID:icalendar-ruby
CALSCALE:GREGORIAN
METHOD:PUBLISH
BEGIN:VEVENT
DTSTAMP:20260424T220355Z
UID:767fd8ec-af4f-4214-9953-312d38cae521
DTSTART;VALUE=DATE:20230923
DTEND;VALUE=DATE:20230923
DESCRIPTION:Stars and Stripes BMX
LOCATION:33187 Highway 247  Lucerne Valley CA 92356 USA
SUMMARY:Race for Life Single
URL:/site/bmx_races/538899
END:VEVENT
END:VCALENDAR
