BEGIN:VCALENDAR
VERSION:2.0
PRODID:icalendar-ruby
CALSCALE:GREGORIAN
METHOD:PUBLISH
BEGIN:VEVENT
DTSTAMP:20260425T130419Z
UID:99f1f8a4-7991-4a8d-a027-6d38a46ea08e
DTSTART;VALUE=DATE:20230911
DTEND;VALUE=DATE:20230911
DESCRIPTION:HD BMX
LOCATION:17427 Live Oak St  Hesperia CA 92345 USA
SUMMARY:Local Race Single
URL:/site/bmx_races/538599
END:VEVENT
END:VCALENDAR
