BEGIN:VCALENDAR
VERSION:2.0
PRODID:icalendar-ruby
CALSCALE:GREGORIAN
METHOD:PUBLISH
BEGIN:VEVENT
DTSTAMP:20260425T215215Z
UID:f1f427a0-265e-4d29-9883-075280929298
DTSTART;VALUE=DATE:20240716
DTEND;VALUE=DATE:20240716
DESCRIPTION:Marquette BMX
LOCATION:910 Hawley Street  Marquette MI 49855 USA
SUMMARY:Local Race Single
URL:/site/bmx_races/538493
END:VEVENT
END:VCALENDAR
