BEGIN:VCALENDAR
VERSION:2.0
PRODID:icalendar-ruby
CALSCALE:GREGORIAN
METHOD:PUBLISH
BEGIN:VEVENT
DTSTAMP:20260425T215201Z
UID:065214f8-3282-41fd-8d21-50a59edf988e
DTSTART;VALUE=DATE:20240613
DTEND;VALUE=DATE:20240613
DESCRIPTION:Marquette BMX
LOCATION:910 Hawley Street  Marquette MI 49855 USA
SUMMARY:Local Race Single
URL:/site/bmx_races/538486
END:VEVENT
END:VCALENDAR
