BEGIN:VCALENDAR
VERSION:2.0
PRODID:icalendar-ruby
CALSCALE:GREGORIAN
METHOD:PUBLISH
BEGIN:VEVENT
DTSTAMP:20260424T105810Z
UID:cac185ac-85d1-415c-a3fb-6c4f212f3e11
DTSTART;VALUE=DATE:20230921
DTEND;VALUE=DATE:20230921
DESCRIPTION:Midland BMX
LOCATION:3950 E Ashman St  Midland MI 48642 USA
SUMMARY:Race for Life Single
URL:/site/bmx_races/538453
END:VEVENT
END:VCALENDAR
