BEGIN:VCALENDAR
VERSION:2.0
PRODID:icalendar-ruby
CALSCALE:GREGORIAN
METHOD:PUBLISH
BEGIN:VEVENT
DTSTAMP:20260426T040007Z
UID:a0986ebd-56e9-42cc-ab5c-2086136e268a
DTSTART;VALUE=DATE:20230914
DTEND;VALUE=DATE:20230914
DESCRIPTION:Richmond BMX
LOCATION:4401 Hobbs Lane   Next To Church Richmond VA 23231 USA
SUMMARY:Practice
URL:/site/bmx_races/538017
END:VEVENT
END:VCALENDAR
