BEGIN:VCALENDAR
VERSION:2.0
PRODID:icalendar-ruby
CALSCALE:GREGORIAN
METHOD:PUBLISH
BEGIN:VEVENT
DTSTAMP:20260425T201700Z
UID:a518070c-fade-4465-a24f-1a9d7a71de5c
DTSTART;VALUE=DATE:20230908
DTEND;VALUE=DATE:20230908
DESCRIPTION:Rusty Bowl BMX
LOCATION:1281 E Gobbi St  Ukiah CA 95482 USA
SUMMARY:Clinic
URL:/site/bmx_races/537976
END:VEVENT
END:VCALENDAR
