BEGIN:VCALENDAR
VERSION:2.0
PRODID:icalendar-ruby
CALSCALE:GREGORIAN
METHOD:PUBLISH
BEGIN:VEVENT
DTSTAMP:20260425T200102Z
UID:87c19a32-2f6b-45aa-9f2f-3a0048fdee81
DTSTART;VALUE=DATE:20240921
DTEND;VALUE=DATE:20240921
DESCRIPTION:Catamount BMX
LOCATION:Willow Park  472 East Rd Bennington VT 05201 USA
SUMMARY:Local Race Single
URL:/site/bmx_races/537780
END:VEVENT
END:VCALENDAR
