BEGIN:VCALENDAR
VERSION:2.0
PRODID:icalendar-ruby
CALSCALE:GREGORIAN
METHOD:PUBLISH
BEGIN:VEVENT
DTSTAMP:20260425T231551Z
UID:e8c2dab2-ed56-43c3-b846-bca173fa8435
DTSTART;VALUE=DATE:20240710
DTEND;VALUE=DATE:20240710
DESCRIPTION:Catamount BMX
LOCATION:Willow Park  472 East Rd Bennington VT 05201 USA
SUMMARY:Practice
URL:/site/bmx_races/537759
END:VEVENT
END:VCALENDAR
