BEGIN:VCALENDAR
VERSION:2.0
PRODID:icalendar-ruby
CALSCALE:GREGORIAN
METHOD:PUBLISH
BEGIN:VEVENT
DTSTAMP:20260425T131328Z
UID:c4138917-6f52-406e-8c37-9f76641d7a2e
DTSTART;VALUE=DATE:20231105
DTEND;VALUE=DATE:20231105
DESCRIPTION:Emerald Valley BMX
LOCATION:2715 Leo Harris Pkwy  Eugene OR 97402 USA
SUMMARY:Local Race Single
URL:/site/bmx_races/537696
END:VEVENT
END:VCALENDAR
