BEGIN:VCALENDAR
VERSION:2.0
PRODID:icalendar-ruby
CALSCALE:GREGORIAN
METHOD:PUBLISH
BEGIN:VEVENT
DTSTAMP:20260425T190926Z
UID:c64edd39-dcd7-4d8c-b23e-8f9f5ee02049
DTSTART;VALUE=DATE:20231116
DTEND;VALUE=DATE:20231116
DESCRIPTION:Emerald Valley BMX
LOCATION:2715 Leo Harris Pkwy  Eugene OR 97402 USA
SUMMARY:Local Race Single
URL:/site/bmx_races/537681
END:VEVENT
END:VCALENDAR
