BEGIN:VCALENDAR
VERSION:2.0
PRODID:icalendar-ruby
CALSCALE:GREGORIAN
METHOD:PUBLISH
BEGIN:VEVENT
DTSTAMP:20260424T233646Z
UID:511497cd-3976-49fa-a062-7414df85ec5c
DTSTART;VALUE=DATE:20231125
DTEND;VALUE=DATE:20231125
DESCRIPTION:Bradley BMX
LOCATION:234 Urbane Rd  Cleveland TN 37312 USA
SUMMARY:Warnicke Double
URL:/site/bmx_races/537132
END:VEVENT
END:VCALENDAR
