BEGIN:VCALENDAR
VERSION:2.0
PRODID:icalendar-ruby
CALSCALE:GREGORIAN
METHOD:PUBLISH
BEGIN:VEVENT
DTSTAMP:20260424T093714Z
UID:26b99f2b-3dc7-406f-9258-e3d09428f000
DTSTART;VALUE=DATE:20230821
DTEND;VALUE=DATE:20230821
DESCRIPTION:CNY BMX
LOCATION:408 Pritchard Ave  Bridgewater NY 13313 USA
SUMMARY:Local Race Single
URL:/site/bmx_races/537124
END:VEVENT
END:VCALENDAR
