BEGIN:VCALENDAR
VERSION:2.0
PRODID:icalendar-ruby
CALSCALE:GREGORIAN
METHOD:PUBLISH
BEGIN:VEVENT
DTSTAMP:20260426T040018Z
UID:afb47aa3-847b-43a3-8290-a03c3e0ef2a0
DTSTART;VALUE=DATE:20230930
DTEND;VALUE=DATE:20230930
DESCRIPTION:Chehalem Valley BMX
LOCATION:1201 Blaine St  Newberg OR 97132 USA
SUMMARY:Earned Double
URL:/site/bmx_races/536823
END:VEVENT
END:VCALENDAR
