BEGIN:VCALENDAR
VERSION:2.0
PRODID:icalendar-ruby
CALSCALE:GREGORIAN
METHOD:PUBLISH
BEGIN:VEVENT
DTSTAMP:20260424T234000Z
UID:7c69a964-2ef1-47af-a2f8-1ecfccc6ebf5
DTSTART;VALUE=DATE:20230910
DTEND;VALUE=DATE:20230910
DESCRIPTION:Winnebagoland BMX
LOCATION:4650 Jackson Street  Oshkosh WI 54901 USA
SUMMARY:Race for Life Single
URL:/site/bmx_races/536809
END:VEVENT
END:VCALENDAR
