BEGIN:VCALENDAR
VERSION:2.0
PRODID:icalendar-ruby
CALSCALE:GREGORIAN
METHOD:PUBLISH
BEGIN:VEVENT
DTSTAMP:20260424T234807Z
UID:b294d7aa-beea-4c18-932f-58308718300b
DTSTART;VALUE=DATE:20230913
DTEND;VALUE=DATE:20230913
DESCRIPTION:Southwest Wyoming Outdoor BMX
LOCATION:1795 Bridger Rd   Green River WY 82935 USA
SUMMARY:Local Race Single
URL:/site/bmx_races/536711
END:VEVENT
END:VCALENDAR
