BEGIN:VCALENDAR
VERSION:2.0
PRODID:icalendar-ruby
CALSCALE:GREGORIAN
METHOD:PUBLISH
BEGIN:VEVENT
DTSTAMP:20260425T024538Z
UID:d68bb754-dff0-4274-8832-70dcd802f972
DTSTART;VALUE=DATE:20130808
DTEND;VALUE=DATE:20130808
DESCRIPTION:Detweiller BMX
LOCATION:8001 N Galena Rd  Peoria IL 61615 USA
SUMMARY:Local Race Single
URL:/site/bmx_races/53648
END:VEVENT
END:VCALENDAR
