BEGIN:VCALENDAR
VERSION:2.0
PRODID:icalendar-ruby
CALSCALE:GREGORIAN
METHOD:PUBLISH
BEGIN:VEVENT
DTSTAMP:20260425T024536Z
UID:0c0c6d46-95fc-4bc7-a878-d78ef974a0d9
DTSTART;VALUE=DATE:20130725
DTEND;VALUE=DATE:20130725
DESCRIPTION:Detweiller BMX
LOCATION:8001 N Galena Rd  Peoria IL 61615 USA
SUMMARY:Local Race Single
URL:/site/bmx_races/53645
END:VEVENT
END:VCALENDAR
