BEGIN:VCALENDAR
VERSION:2.0
PRODID:icalendar-ruby
CALSCALE:GREGORIAN
METHOD:PUBLISH
BEGIN:VEVENT
DTSTAMP:20260425T231640Z
UID:e1048546-a9b8-4d99-9722-6986c6b46014
DTSTART;VALUE=DATE:20230926
DTEND;VALUE=DATE:20230926
DESCRIPTION:Dacono BMX
LOCATION:113 Forest Ave  Dacono CO 80514 USA
SUMMARY:Local Race Single
URL:/site/bmx_races/536377
END:VEVENT
END:VCALENDAR
