BEGIN:VCALENDAR
VERSION:2.0
PRODID:icalendar-ruby
CALSCALE:GREGORIAN
METHOD:PUBLISH
BEGIN:VEVENT
DTSTAMP:20260424T232549Z
UID:7cc29ed7-6b43-4c12-90ca-d71ebf0abac0
DTSTART;VALUE=DATE:20230731
DTEND;VALUE=DATE:20230731
DESCRIPTION:Desoto BMX
LOCATION:Grimes Park 500 E. Centre Park Blvd Desoto TX 75115 USA
SUMMARY:Local Race Single
URL:/site/bmx_races/536187
END:VEVENT
END:VCALENDAR
