BEGIN:VCALENDAR
VERSION:2.0
PRODID:icalendar-ruby
CALSCALE:GREGORIAN
METHOD:PUBLISH
BEGIN:VEVENT
DTSTAMP:20260424T221851Z
UID:1752fad8-e53f-4292-a572-d617bcdcac15
DTSTART;VALUE=DATE:20230803
DTEND;VALUE=DATE:20230803
DESCRIPTION:RockStar Energy Bike Park
LOCATION:12257 Kukendahl Rd  Houston TX 77067 USA
SUMMARY:Local Race Single
URL:/site/bmx_races/535952
END:VEVENT
END:VCALENDAR
