BEGIN:VCALENDAR
VERSION:2.0
PRODID:icalendar-ruby
CALSCALE:GREGORIAN
METHOD:PUBLISH
BEGIN:VEVENT
DTSTAMP:20260424T115236Z
UID:17412cb6-e8e4-45b0-81bc-feaef8b708cf
DTSTART;VALUE=DATE:20230903
DTEND;VALUE=DATE:20230903
DESCRIPTION:Capitol City BMX
LOCATION:5001 Killingsworth Lane  Pflugerville TX 78660 USA
SUMMARY:Local Race Single
URL:/site/bmx_races/535809
END:VEVENT
END:VCALENDAR
