BEGIN:VCALENDAR
VERSION:2.0
PRODID:icalendar-ruby
CALSCALE:GREGORIAN
METHOD:PUBLISH
BEGIN:VEVENT
DTSTAMP:20260425T035239Z
UID:a175432d-0ebb-42fd-af9e-a89e70b141cf
DTSTART;VALUE=DATE:20231025
DTEND;VALUE=DATE:20231025
DESCRIPTION:Wee-Chi-Tah BMX
LOCATION:404 Burkburnett Rd   WICHITA FALLS TX 76306 USA
SUMMARY:Local Race Single
URL:/site/bmx_races/535743
END:VEVENT
END:VCALENDAR
