BEGIN:VCALENDAR
VERSION:2.0
PRODID:icalendar-ruby
CALSCALE:GREGORIAN
METHOD:PUBLISH
BEGIN:VEVENT
DTSTAMP:20260425T003826Z
UID:dd417176-6105-4906-a21b-50fe8eed6828
DTSTART;VALUE=DATE:20230730
DTEND;VALUE=DATE:20230730
DESCRIPTION:Fernley BMX
LOCATION:212 Mull Ln  Fernley NV 89408 USA
SUMMARY:Local Race Single
URL:/site/bmx_races/535582
END:VEVENT
END:VCALENDAR
