BEGIN:VCALENDAR
VERSION:2.0
PRODID:icalendar-ruby
CALSCALE:GREGORIAN
METHOD:PUBLISH
BEGIN:VEVENT
DTSTAMP:20260424T104400Z
UID:54234bdb-96f2-4987-adef-d58d132d7448
DTSTART;VALUE=DATE:20231201
DTEND;VALUE=DATE:20231201
DESCRIPTION:Colorado River BMX
LOCATION:2230 Highland Dr  Bullhead City AZ 86442 USA
SUMMARY:Local Race Single
URL:/site/bmx_races/534829
END:VEVENT
END:VCALENDAR
