BEGIN:VCALENDAR
VERSION:2.0
PRODID:icalendar-ruby
CALSCALE:GREGORIAN
METHOD:PUBLISH
BEGIN:VEVENT
DTSTAMP:20260424T104404Z
UID:7dce0499-7940-470f-976c-a7823bdb678c
DTSTART;VALUE=DATE:20231103
DTEND;VALUE=DATE:20231103
DESCRIPTION:Colorado River BMX
LOCATION:2230 Highland Dr  Bullhead City AZ 86442 USA
SUMMARY:Local Race Single
URL:/site/bmx_races/534821
END:VEVENT
END:VCALENDAR
