BEGIN:VCALENDAR
VERSION:2.0
PRODID:icalendar-ruby
CALSCALE:GREGORIAN
METHOD:PUBLISH
BEGIN:VEVENT
DTSTAMP:20260424T194656Z
UID:cb6e10de-9668-43a4-921b-bfcd71844fe3
DTSTART;VALUE=DATE:20230609
DTEND;VALUE=DATE:20230609
DESCRIPTION:Tucson BMX
LOCATION:9245 E Irvington  Tucson AZ 85730 USA
SUMMARY:Local Race Single
URL:/site/bmx_races/534684
END:VEVENT
END:VCALENDAR
