BEGIN:VCALENDAR
VERSION:2.0
PRODID:icalendar-ruby
CALSCALE:GREGORIAN
METHOD:PUBLISH
BEGIN:VEVENT
DTSTAMP:20260425T024812Z
UID:08c2df77-ce12-43b4-be89-3ac0211d593a
DTSTART;VALUE=DATE:20230801
DTEND;VALUE=DATE:20230801
DESCRIPTION:Blanchard Woods BMX
LOCATION:4600 Blanchard Woods Drive  Evans GA 30809 USA
SUMMARY:Local Race Single
URL:/site/bmx_races/534548
END:VEVENT
END:VCALENDAR
