BEGIN:VCALENDAR
VERSION:2.0
PRODID:icalendar-ruby
CALSCALE:GREGORIAN
METHOD:PUBLISH
BEGIN:VEVENT
DTSTAMP:20260424T152434Z
UID:daad52f1-ea83-4398-8f1b-e9b7fb529046
DTSTART;VALUE=DATE:20230717
DTEND;VALUE=DATE:20230717
DESCRIPTION:VMP BMX
LOCATION:8018 Boydton Plank Road  N Dinwiddie VA 23803 USA
SUMMARY:Local Race Single
URL:/site/bmx_races/534534
END:VEVENT
END:VCALENDAR
