BEGIN:VCALENDAR
VERSION:2.0
PRODID:icalendar-ruby
CALSCALE:GREGORIAN
METHOD:PUBLISH
BEGIN:VEVENT
DTSTAMP:20260425T122705Z
UID:88f50c10-6a9e-4983-aeef-278953131553
DTSTART;VALUE=DATE:20241212
DTEND;VALUE=DATE:20241212
DESCRIPTION:High Springs BMX
LOCATION:  High Springs FL 32028 USA
SUMMARY:Practice
URL:/site/bmx_races/534342
END:VEVENT
END:VCALENDAR
