BEGIN:VCALENDAR
VERSION:2.0
PRODID:icalendar-ruby
CALSCALE:GREGORIAN
METHOD:PUBLISH
BEGIN:VEVENT
DTSTAMP:20260425T134636Z
UID:c224f4e3-80aa-492e-af6b-30052629b955
DTSTART;VALUE=DATE:20241105
DTEND;VALUE=DATE:20241105
DESCRIPTION:High Springs BMX
LOCATION:  High Springs FL 32028 USA
SUMMARY:Practice
URL:/site/bmx_races/534331
END:VEVENT
END:VCALENDAR
