BEGIN:VCALENDAR
VERSION:2.0
PRODID:icalendar-ruby
CALSCALE:GREGORIAN
METHOD:PUBLISH
BEGIN:VEVENT
DTSTAMP:20260425T183142Z
UID:9d3fd4bc-b984-4749-a0cd-514a5c79ccdf
DTSTART;VALUE=DATE:20240801
DTEND;VALUE=DATE:20240801
DESCRIPTION:High Springs BMX
LOCATION:  High Springs FL 32028 USA
SUMMARY:Practice
URL:/site/bmx_races/534304
END:VEVENT
END:VCALENDAR
