BEGIN:VCALENDAR
VERSION:2.0
PRODID:icalendar-ruby
CALSCALE:GREGORIAN
METHOD:PUBLISH
BEGIN:VEVENT
DTSTAMP:20260426T035957Z
UID:b2314b59-91f0-470e-83e1-04df7f3617a4
DTSTART;VALUE=DATE:20240220
DTEND;VALUE=DATE:20240220
DESCRIPTION:High Springs BMX
LOCATION:  High Springs FL 32028 USA
SUMMARY:Practice
URL:/site/bmx_races/534257
END:VEVENT
END:VCALENDAR
