BEGIN:VCALENDAR
VERSION:2.0
PRODID:icalendar-ruby
CALSCALE:GREGORIAN
METHOD:PUBLISH
BEGIN:VEVENT
DTSTAMP:20260425T010816Z
UID:362d9d03-89a2-40ad-9146-324d0d5c53ee
DTSTART;VALUE=DATE:20230709
DTEND;VALUE=DATE:20230709
DESCRIPTION:Cowtown BMX
LOCATION:447 Haltom Rd  Ft. Worth TX 76117 USA
SUMMARY:Local Race Single
URL:/site/bmx_races/534186
END:VEVENT
END:VCALENDAR
