BEGIN:VCALENDAR
VERSION:2.0
PRODID:icalendar-ruby
CALSCALE:GREGORIAN
METHOD:PUBLISH
BEGIN:VEVENT
DTSTAMP:20260425T230936Z
UID:96930bd8-2ca7-4793-bb72-86607b0a3d37
DTSTART;VALUE=DATE:20230811
DTEND;VALUE=DATE:20230811
DESCRIPTION:Elkhorn BMX
LOCATION:848 Elkhorn Blvd  Rio Linda CA 95673 USA
SUMMARY:Race for Life Single
URL:/site/bmx_races/534123
END:VEVENT
END:VCALENDAR
