BEGIN:VCALENDAR
VERSION:2.0
PRODID:icalendar-ruby
CALSCALE:GREGORIAN
METHOD:PUBLISH
BEGIN:VEVENT
DTSTAMP:20260424T115603Z
UID:3ad6243b-8198-404e-b431-d13fd8c8c94c
DTSTART;VALUE=DATE:20130627
DTEND;VALUE=DATE:20130627
DESCRIPTION:Cleves BMX
LOCATION:Henderson Kupfer Rd  Cleves OH 45002 USA
SUMMARY:Local Race Single
URL:/site/bmx_races/53403
END:VEVENT
END:VCALENDAR
