BEGIN:VCALENDAR
VERSION:2.0
PRODID:icalendar-ruby
CALSCALE:GREGORIAN
METHOD:PUBLISH
BEGIN:VEVENT
DTSTAMP:20260425T125539Z
UID:7fb0670c-793c-4896-ace9-c2e879ce6759
DTSTART;VALUE=DATE:20230613
DTEND;VALUE=DATE:20230613
DESCRIPTION:Elkhorn BMX
LOCATION:848 Elkhorn Blvd  Rio Linda CA 95673 USA
SUMMARY:Local Race Single
URL:/site/bmx_races/533971
END:VEVENT
END:VCALENDAR
