BEGIN:VCALENDAR
VERSION:2.0
PRODID:icalendar-ruby
CALSCALE:GREGORIAN
METHOD:PUBLISH
BEGIN:VEVENT
DTSTAMP:20260424T082720Z
UID:f4bc21fe-94b6-4c55-a931-5dbe3ccd5b70
DTSTART;VALUE=DATE:20230711
DTEND;VALUE=DATE:20230711
DESCRIPTION:Chehalem Valley BMX
LOCATION:1201 Blaine St  Newberg OR 97132 USA
SUMMARY:Local Race Single
URL:/site/bmx_races/533947
END:VEVENT
END:VCALENDAR
