BEGIN:VCALENDAR
VERSION:2.0
PRODID:icalendar-ruby
CALSCALE:GREGORIAN
METHOD:PUBLISH
BEGIN:VEVENT
DTSTAMP:20260419T153200Z
UID:36a2bfa8-9d8e-4fa1-8440-48c10ce78449
DTSTART;VALUE=DATE:20230626
DTEND;VALUE=DATE:20230626
DESCRIPTION:Green Lake BMX
LOCATION:221 W South Street   Spicer MN 56288 USA
SUMMARY:Practice
URL:/site/bmx_races/533942
END:VEVENT
END:VCALENDAR
