BEGIN:VCALENDAR
VERSION:2.0
PRODID:icalendar-ruby
CALSCALE:GREGORIAN
METHOD:PUBLISH
BEGIN:VEVENT
DTSTAMP:20260425T103326Z
UID:1abbf55a-d0a2-4d8d-8524-976182e429e1
DTSTART;VALUE=DATE:20230820
DTEND;VALUE=DATE:20230820
DESCRIPTION:Westerville BMX
LOCATION:535 Park Meadow Road  Westerville OH 43081 USA
SUMMARY:State Race Double
URL:/site/bmx_races/533896
END:VEVENT
END:VCALENDAR
