BEGIN:VCALENDAR
VERSION:2.0
PRODID:icalendar-ruby
CALSCALE:GREGORIAN
METHOD:PUBLISH
BEGIN:VEVENT
DTSTAMP:20260424T144043Z
UID:305dee1c-2700-4565-94c5-7702b3e2a3d0
DTSTART;VALUE=DATE:20230528
DTEND;VALUE=DATE:20230528
DESCRIPTION:Capitol City BMX
LOCATION:5001 Killingsworth Lane  Pflugerville TX 78660 USA
SUMMARY:Local Race Single
URL:/site/bmx_races/533798
END:VEVENT
END:VCALENDAR
