BEGIN:VCALENDAR
VERSION:2.0
PRODID:icalendar-ruby
CALSCALE:GREGORIAN
METHOD:PUBLISH
BEGIN:VEVENT
DTSTAMP:20260424T185801Z
UID:9a742da9-7ce3-40f3-b463-4bb40051284b
DTSTART;VALUE=DATE:20230525
DTEND;VALUE=DATE:20230525
DESCRIPTION:Lone Star BMX
LOCATION:3950 Eisenhauer Rd  San Antonio TX 78218 USA
SUMMARY:Local Race Single
URL:/site/bmx_races/533601
END:VEVENT
END:VCALENDAR
