BEGIN:VCALENDAR
VERSION:2.0
PRODID:icalendar-ruby
CALSCALE:GREGORIAN
METHOD:PUBLISH
BEGIN:VEVENT
DTSTAMP:20260424T220225Z
UID:99cb20a8-d48b-4c57-ab99-aacbfc730584
DTSTART;VALUE=DATE:20231015
DTEND;VALUE=DATE:20231015
DESCRIPTION:Boomtown BMX
LOCATION:17760 Shasta Dam Blvd  Shasta Lake CA 96019 USA
SUMMARY:Local Race Single
URL:/site/bmx_races/533433
END:VEVENT
END:VCALENDAR
